BEGIN:VCALENDAR
VERSION:2.0
PRODID:-//(IM)POSSIBLE BODIES - ECPv5.1.3//NONSGML v1.0//EN
CALSCALE:GREGORIAN
METHOD:PUBLISH
X-WR-CALNAME:(IM)POSSIBLE BODIES
X-ORIGINAL-URL:https://impossiblebodies.nl/en/
X-WR-CALDESC:Events for (IM)POSSIBLE BODIES
BEGIN:VTIMEZONE
TZID:UTC
BEGIN:STANDARD
TZOFFSETFROM:+0000
TZOFFSETTO:+0000
TZNAME:UTC
DTSTART:20200101T000000
END:STANDARD
END:VTIMEZONE
BEGIN:VEVENT
DTSTART;TZID=UTC:20201029T210000
DTEND;TZID=UTC:20201029T230000
DTSTAMP:20260420T184017
CREATED:20200910T220540Z
LAST-MODIFIED:20201031T174608Z
UID:2352-1604005200-1604012400@impossiblebodies.nl
SUMMARY:Gabber Modus Operandi
DESCRIPTION:@media only screen and (max-width:800px) {.fusion-title.fusion-title-1{margin-top:0px!important;margin-bottom:45px!important;}}Gabber Modus Operandi \n					\n						Gabber Modus Operandi use samples and take inspiration from gabber\, footwork\, noise\, grindcore\, and uniquely Indonesian sounds such as jathilan (a trance dance in which an animal spirit possesses the body)\, dangdut koplo\, funkfot (popular music) and Gamelan-based folk to arrive at something completely “new” sounding. \n\n\n					\n				\n					\n						During this talk we’ll discuss the role of identity\, experiment and tradition in GMO’s work and artistic practice. What can we learn from them\, and how can we use GMO’s line of thought when thinking of our own futures? \nThis talk will be pre-recorded and streamed due to time zone differences. \nPanel: Kasimyn & Ican Harem (Gabber Modus Operandi) \nModerator: Tristan Deschamps \n\n\n					\n				\n					\n						\n\n					\n				\n					\n						Gabber Modus Operandi\nGabber Modus Operandi is an Indonesian duo that creates hybridised and explosive dance music by combining modern rave with traditional Javanese dance and internet humour. \nWebsite \n\n\n					\n				\n					\n						\n\n					\n				\n					\n						Tristan Deschamps\nTristan Deschamps (b. 1992\, Bruay) is an independent curator and writer based in Berlin. Tristan studied at Maastricht University where he completed his MA in Arts and Heritage in 2015. He is the co-founder of the project space +DEDE\, created in 2018 in Berlin. He has worked on several international exhibitions with diverse galleries and project spaces\, including PS120\, S.A.C. Bangkok\, NgBK\, Kunstraum Kreuzberg/Bethanien\, and NON Berlin. \nWebsite \n\n\n					\n				\n					\n						Listen / watch\nYoutube Gabber Modus Operandi\nBandcamp album Hoxxxya Gabber Modus Operandi\nBandcamp album puxxximaxxx Gabber Modus Operandi \n\n\n					\n				.fusion-fullwidth.fusion-builder-row-1 a:not(.fusion-button):not(.fusion-builder-module-control):not(.fusion-social-network-icon):not(.fb-icon-element):not(.fusion-countdown-link):not(.fusion-rollover-link):not(.fusion-rollover-gallery):not(.fusion-button-bar):not(.add_to_cart_button):not(.show_details_button):not(.product_type_external):not(.fusion-quick-view):not(.fusion-rollover-title-link):not(.fusion-breadcrumb-link) \, .fusion-fullwidth.fusion-builder-row-1 a:not(.fusion-button):not(.fusion-builder-module-control):not(.fusion-social-network-icon):not(.fb-icon-element):not(.fusion-countdown-link):not(.fusion-rollover-link):not(.fusion-rollover-gallery):not(.fusion-button-bar):not(.add_to_cart_button):not(.show_details_button):not(.product_type_external):not(.fusion-quick-view):not(.fusion-rollover-title-link):not(.fusion-breadcrumb-link):before\, .fusion-fullwidth.fusion-builder-row-1 a:not(.fusion-button):not(.fusion-builder-module-control):not(.fusion-social-network-icon):not(.fb-icon-element):not(.fusion-countdown-link):not(.fusion-rollover-link):not(.fusion-rollover-gallery):not(.fusion-button-bar):not(.add_to_cart_button):not(.show_details_button):not(.product_type_external):not(.fusion-quick-view):not(.fusion-rollover-title-link):not(.fusion-breadcrumb-link):after {color: #000000;}.fusion-fullwidth.fusion-builder-row-1 a:not(.fusion-button):not(.fusion-builder-module-control):not(.fusion-social-network-icon):not(.fb-icon-element):not(.fusion-countdown-link):not(.fusion-rollover-link):not(.fusion-rollover-gallery):not(.fusion-button-bar):not(.add_to_cart_button):not(.show_details_button):not(.product_type_external):not(.fusion-quick-view):not(.fusion-rollover-title-link):not(.fusion-breadcrumb-link):hover\, .fusion-fullwidth.fusion-builder-row-1 a:not(.fusion-button):not(.fusion-builder-module-control):not(.fusion-social-network-icon):not(.fb-icon-element):not(.fusion-countdown-link):not(.fusion-rollover-link):not(.fusion-rollover-gallery):not(.fusion-button-bar):not(.add_to_cart_button):not(.show_details_button):not(.product_type_external):not(.fusion-quick-view):not(.fusion-rollover-title-link):not(.fusion-breadcrumb-link):hover:before\, .fusion-fullwidth.fusion-builder-row-1 a:not(.fusion-button):not(.fusion-builder-module-control):not(.fusion-social-network-icon):not(.fb-icon-element):not(.fusion-countdown-link):not(.fusion-rollover-link):not(.fusion-rollover-gallery):not(.fusion-button-bar):not(.add_to_cart_button):not(.show_details_button):not(.product_type_external):not(.fusion-quick-view):not(.fusion-rollover-title-link):not(.fusion-breadcrumb-link):hover:after {color: #5700ff;}.fusion-fullwidth.fusion-builder-row-1 .pagination a.inactive:hover\, .fusion-fullwidth.fusion-builder-row-1 .fusion-filters .fusion-filter.fusion-active a {border-color: #5700ff;}.fusion-fullwidth.fusion-builder-row-1 .pagination .current {border-color: #5700ff; background-color: #5700ff;}.fusion-fullwidth.fusion-builder-row-1 .fusion-filters .fusion-filter.fusion-active a\, .fusion-fullwidth.fusion-builder-row-1 .fusion-date-and-formats .fusion-format-box\, .fusion-fullwidth.fusion-builder-row-1 .fusion-popover\, .fusion-fullwidth.fusion-builder-row-1 .tooltip-shortcode {color: #5700ff;}#main .fusion-fullwidth.fusion-builder-row-1 .post .blog-shortcode-post-title a:hover {color: #5700ff;}\n
URL:https://impossiblebodies.nl/en/program/gabber-modus-operandi/
LOCATION:Online
CATEGORIES:Tour
ATTACH;FMTTYPE=image/png:https://impossiblebodies.nl/wp-content/uploads/2020/06/169.png
END:VEVENT
END:VCALENDAR