BEGIN:VCALENDAR
VERSION:2.0
PRODID:-//(IM)POSSIBLE BODIES - ECPv5.1.3//NONSGML v1.0//EN
CALSCALE:GREGORIAN
METHOD:PUBLISH
X-WR-CALNAME:(IM)POSSIBLE BODIES
X-ORIGINAL-URL:https://impossiblebodies.nl/en/
X-WR-CALDESC:Events for (IM)POSSIBLE BODIES
BEGIN:VTIMEZONE
TZID:UTC
BEGIN:STANDARD
TZOFFSETFROM:+0000
TZOFFSETTO:+0000
TZNAME:UTC
DTSTART:20200101T000000
END:STANDARD
END:VTIMEZONE
BEGIN:VEVENT
DTSTART;TZID=UTC:20201024T200000
DTEND;TZID=UTC:20201024T204500
DTSTAMP:20260420T183845
CREATED:20200908T202439Z
LAST-MODIFIED:20201103T213147Z
UID:2098-1603569600-1603572300@impossiblebodies.nl
SUMMARY:Be Arielle F
DESCRIPTION:@media only screen and (max-width:800px) {.fusion-title.fusion-title-1{margin-top:0px!important;margin-bottom:45px!important;}}Performance by Simon Senn\n					\n						In this digital performance\, videographer and visual artist Simon Senn demonstrates how the virtual world and the physical world are not always in opposition. The performance shows the unexpected entanglements between technology\, representation\, gender and law. Senn’s experience began when he bought the digital replica of a female body online. He then went in search of the woman whose body he was « virtually » inhabiting. Onstage he conveys this disturbing experience to the audience. \n\n\n					\n				\n					\n						\n\n					\n				\n					\n						\n\n					\n				\n					\n						Simon Senn\nVideographer and visual artist Simon Senn (1986) holds a Bachelor of Fine Arts from the Geneva University of Art and Design and a Masters from Goldsmiths College\, London. IIn his works\, Simon Senn deals with human behavior and interaction patterns. Through the aesthetic dimension of his works\, Simon Senn touches the controversial area of tension between ethic and aesthetic. At first glance\, his work seems to suggest that he is a socially engaged artist who speaks out against some form of injustice. Yet his works sometimes reveal a more ambiguous approach\, examining aporias rather than expressing targeted criticism. Be Arielle F is his first stage work\, with which he received the second Premio Performing Arts Incentive Prize in 2019. \n\n\n					\n				.fusion-fullwidth.fusion-builder-row-1 a:not(.fusion-button):not(.fusion-builder-module-control):not(.fusion-social-network-icon):not(.fb-icon-element):not(.fusion-countdown-link):not(.fusion-rollover-link):not(.fusion-rollover-gallery):not(.fusion-button-bar):not(.add_to_cart_button):not(.show_details_button):not(.product_type_external):not(.fusion-quick-view):not(.fusion-rollover-title-link):not(.fusion-breadcrumb-link) \, .fusion-fullwidth.fusion-builder-row-1 a:not(.fusion-button):not(.fusion-builder-module-control):not(.fusion-social-network-icon):not(.fb-icon-element):not(.fusion-countdown-link):not(.fusion-rollover-link):not(.fusion-rollover-gallery):not(.fusion-button-bar):not(.add_to_cart_button):not(.show_details_button):not(.product_type_external):not(.fusion-quick-view):not(.fusion-rollover-title-link):not(.fusion-breadcrumb-link):before\, .fusion-fullwidth.fusion-builder-row-1 a:not(.fusion-button):not(.fusion-builder-module-control):not(.fusion-social-network-icon):not(.fb-icon-element):not(.fusion-countdown-link):not(.fusion-rollover-link):not(.fusion-rollover-gallery):not(.fusion-button-bar):not(.add_to_cart_button):not(.show_details_button):not(.product_type_external):not(.fusion-quick-view):not(.fusion-rollover-title-link):not(.fusion-breadcrumb-link):after {color: #000000;}.fusion-fullwidth.fusion-builder-row-1 a:not(.fusion-button):not(.fusion-builder-module-control):not(.fusion-social-network-icon):not(.fb-icon-element):not(.fusion-countdown-link):not(.fusion-rollover-link):not(.fusion-rollover-gallery):not(.fusion-button-bar):not(.add_to_cart_button):not(.show_details_button):not(.product_type_external):not(.fusion-quick-view):not(.fusion-rollover-title-link):not(.fusion-breadcrumb-link):hover\, .fusion-fullwidth.fusion-builder-row-1 a:not(.fusion-button):not(.fusion-builder-module-control):not(.fusion-social-network-icon):not(.fb-icon-element):not(.fusion-countdown-link):not(.fusion-rollover-link):not(.fusion-rollover-gallery):not(.fusion-button-bar):not(.add_to_cart_button):not(.show_details_button):not(.product_type_external):not(.fusion-quick-view):not(.fusion-rollover-title-link):not(.fusion-breadcrumb-link):hover:before\, .fusion-fullwidth.fusion-builder-row-1 a:not(.fusion-button):not(.fusion-builder-module-control):not(.fusion-social-network-icon):not(.fb-icon-element):not(.fusion-countdown-link):not(.fusion-rollover-link):not(.fusion-rollover-gallery):not(.fusion-button-bar):not(.add_to_cart_button):not(.show_details_button):not(.product_type_external):not(.fusion-quick-view):not(.fusion-rollover-title-link):not(.fusion-breadcrumb-link):hover:after {color: #5700ff;}.fusion-fullwidth.fusion-builder-row-1 .pagination a.inactive:hover\, .fusion-fullwidth.fusion-builder-row-1 .fusion-filters .fusion-filter.fusion-active a {border-color: #5700ff;}.fusion-fullwidth.fusion-builder-row-1 .pagination .current {border-color: #5700ff; background-color: #5700ff;}.fusion-fullwidth.fusion-builder-row-1 .fusion-filters .fusion-filter.fusion-active a\, .fusion-fullwidth.fusion-builder-row-1 .fusion-date-and-formats .fusion-format-box\, .fusion-fullwidth.fusion-builder-row-1 .fusion-popover\, .fusion-fullwidth.fusion-builder-row-1 .tooltip-shortcode {color: #5700ff;}#main .fusion-fullwidth.fusion-builder-row-1 .post .blog-shortcode-post-title a:hover {color: #5700ff;}\n
URL:https://impossiblebodies.nl/en/program/performance-simon-senn/
LOCATION:Online
CATEGORIES:Performance
ATTACH;FMTTYPE=image/jpeg:https://impossiblebodies.nl/wp-content/uploads/2020/09/Be-Arielle-F-Elisa-Larvego_.jpeg
END:VEVENT
END:VCALENDAR